BEGIN:VCALENDAR
VERSION:2.0
PRODID: -//Q4 Inc.//EN
METHOD:PUBLISH
BEGIN:VTIMEZONE
TZID:America/New_York
X-LIC-LOCATION:America/New_York
BEGIN:DAYLIGHT
TZOFFSETFROM:-0500
TZOFFSETTO:-0400
TZNAME:EDT
DTSTART:19700308T020000
RRULE:FREQ=YEARLY;BYMONTH=3;BYDAY=2SU
END:DAYLIGHT
BEGIN:STANDARD
TZOFFSETFROM:-0400
TZOFFSETTO:-0500
TZNAME:EST
DTSTART:19701101T020000
RRULE:FREQ=YEARLY;BYMONTH=11;BYDAY=1SU
END:STANDARD
END:VTIMEZONE
BEGIN:VEVENT
ORGANIZER:MAILTO:investorrelations@iheartmedia.com
DTSTART;TZID="America/New_York":20210225T163000
DTEND;TZID="America/New_York":20210225T173000
LOCATION:
UID:4279cdeb-6d18-46a2-bc36-c2c28202640e
DTSTAMP:20260424T132000
SUMMARY:iHeartMedia Q4 2020 Earnings Call
DESCRIPTION: View More Information: https://investors.iheartmedia.com/events-and-presentations/events-calendar/event-details/2021/iHeartMedia-Q4-2020-Earnings-Call/default.aspx
URL;VALUE=URI:https://investors.iheartmedia.com/events-and-presentations/events-calendar/event-details/2021/iHeartMedia-Q4-2020-Earnings-Call/default.aspx
PRIORITY:5
CLASS:PUBLIC
END:VEVENT
END:VCALENDAR
